BEGIN:VCALENDAR
VERSION:2.0
PRODID:-//Drupal iCal API//EN
X-WR-CALNAME:Events items teaser
X-WR-TIMEZONE:America/Toronto
BEGIN:VTIMEZONE
TZID:America/Toronto
X-LIC-LOCATION:America/Toronto
BEGIN:DAYLIGHT
TZNAME:EDT
TZOFFSETFROM:-0500
TZOFFSETTO:-0400
DTSTART:20170312T070000
END:DAYLIGHT
BEGIN:STANDARD
TZNAME:EST
TZOFFSETFROM:-0400
TZOFFSETTO:-0500
DTSTART:20171105T060000
END:STANDARD
END:VTIMEZONE
BEGIN:VEVENT
UID:69e5191d32112
DTSTART;TZID=America/Toronto:20180123T170000
SEQUENCE:0
TRANSP:TRANSPARENT
DTEND;TZID=America/Toronto:20180123T170000
URL:https://uwaterloo.ca/engineering/events/student-exchanges-germany-and-a
 ustria
LOCATION:E2 - Engineering 2 200 University Avenue West Room 2350 Waterloo O
 N N2L 3G1 Canada
SUMMARY:Student Exchanges | Germany and Austria
CLASS:PUBLIC
DESCRIPTION:[the german flag with keep calm and study in Germany printed on
  it]\n\nAttention all 1B and 2A engineering students!\n\nHow would you lik
 e to study for a term or two at one of our 7 partner\nuniversities in Germ
 any or at one of our 2 partners in Austria?  All\nthe while earning credi
 ts toward your Waterloo degree!\n\nStudent academic exchanges are:
DTSTAMP:20260419T180413Z
END:VEVENT
END:VCALENDAR