BEGIN:VCALENDAR
VERSION:2.0
PRODID:-//Drupal iCal API//EN
X-WR-CALNAME:Events items teaser
X-WR-TIMEZONE:America/Toronto
BEGIN:VTIMEZONE
TZID:America/Toronto
X-LIC-LOCATION:America/Toronto
BEGIN:DAYLIGHT
TZNAME:EDT
TZOFFSETFROM:-0500
TZOFFSETTO:-0400
DTSTART:20170312T070000
END:DAYLIGHT
BEGIN:STANDARD
TZNAME:EST
TZOFFSETFROM:-0400
TZOFFSETTO:-0500
DTSTART:20171105T060000
END:STANDARD
END:VTIMEZONE
BEGIN:VEVENT
UID:69e613f0d56e4
DTSTART;TZID=America/Toronto:20180125T160000
SEQUENCE:0
TRANSP:TRANSPARENT
DTEND;TZID=America/Toronto:20180125T160000
URL:https://uwaterloo.ca/engineering/events/student-exchange-information-se
 ssion-0
LOCATION:RCH - J.R. Coutts Engineering Lecture Hall 200 University Avenue W
 est Room 103 Waterloo ON N2L 3G1 Canada
SUMMARY:Student Exchange Information Session
CLASS:PUBLIC
DESCRIPTION:[keep calm and be an exchange student poster]\n\nAttention all 
 1B and 2A engineering students!\n\nHow would you like to study for a term 
 or two at another university\nwhile earning credits toward your Waterloo d
 egree?\n\nThe Faculty of Engineering has exchange agreements with about 80
 \nleading universities in 30 countries around the world!\n\nStudent academ
 ic exchanges are
DTSTAMP:20260420T115424Z
END:VEVENT
END:VCALENDAR