BEGIN:VCALENDAR
VERSION:2.0
PRODID:-//Drupal iCal API//EN
X-WR-CALNAME:Events items teaser
X-WR-TIMEZONE:America/Toronto
BEGIN:VTIMEZONE
TZID:America/Toronto
X-LIC-LOCATION:America/Toronto
BEGIN:DAYLIGHT
TZNAME:EDT
TZOFFSETFROM:-0500
TZOFFSETTO:-0400
DTSTART:20180311T070000
END:DAYLIGHT
BEGIN:STANDARD
TZNAME:EST
TZOFFSETFROM:-0400
TZOFFSETTO:-0500
DTSTART:20171105T060000
END:STANDARD
END:VTIMEZONE
BEGIN:VEVENT
UID:69eb0287f3b6b
DTSTART;TZID=America/Toronto:20180427T133000
SEQUENCE:0
TRANSP:TRANSPARENT
DTEND;TZID=America/Toronto:20180427T143000
URL:https://uwaterloo.ca/engineering/events/cbb-seminar-dr-shumin-zhai-goog
 le-inc
LOCATION:E5 - Engineering 5 200 University Avenue West 3102 Waterloo ON N2L
  3G1 Canada
SUMMARY:CBB Seminar: Dr. Shumin Zhai\, Google Inc
CLASS:PUBLIC
DESCRIPTION:[Google-logo]\n\nDr. Shumin Zhai from Google Inc. will be givin
 g a talk on Mobile\nKeyboard as an example of large scale novel interface 
 based on both\nclassic human factors and modern machine intelligence.
DTSTAMP:20260424T054128Z
END:VEVENT
END:VCALENDAR