BEGIN:VCALENDAR
VERSION:2.0
PRODID:-//Drupal iCal API//EN
X-WR-CALNAME:Events items teaser
X-WR-TIMEZONE:America/Toronto
BEGIN:VTIMEZONE
TZID:America/Toronto
X-LIC-LOCATION:America/Toronto
BEGIN:DAYLIGHT
TZNAME:EDT
TZOFFSETFROM:-0500
TZOFFSETTO:-0400
DTSTART:20180311T070000
END:DAYLIGHT
BEGIN:STANDARD
TZNAME:EST
TZOFFSETFROM:-0400
TZOFFSETTO:-0500
DTSTART:20171105T060000
END:STANDARD
END:VTIMEZONE
BEGIN:VEVENT
UID:69e4db52e428f
DTSTART;TZID=America/Toronto:20180510T000000
SEQUENCE:0
TRANSP:TRANSPARENT
DTEND;TZID=America/Toronto:20180511T000000
URL:https://uwaterloo.ca/engineering/events/2018-canadian-national-steel-br
 idge-competition
SUMMARY:2018 Canadian National Steel Bridge Competition
CLASS:PUBLIC
DESCRIPTION:MAIN EVENTS\n\nTHURSDAY\, MAY 10\n9:30 am - 1:00 pm\nBridge Dis
 plays (PAC)\n\n1:00 pm - 5:00 pm\nPresentations (AHS 1689)\n\nFRIDAY\, MAY
  11\n9:00 am - 5:00 pm\nCompetition (PAC)\n\n11:00 am - 2:00 pm\nGrad Post
 er Symposium (M3 Foyer)\n\n6:00 pm - 9:00 pm\nBanquet (Waterloo Inn)
DTSTAMP:20260419T134034Z
END:VEVENT
END:VCALENDAR