BEGIN:VCALENDAR
VERSION:2.0
PRODID:-//Drupal iCal API//EN
X-WR-CALNAME:Events items teaser
X-WR-TIMEZONE:America/Toronto
BEGIN:VTIMEZONE
TZID:America/Toronto
X-LIC-LOCATION:America/Toronto
BEGIN:DAYLIGHT
TZNAME:EDT
TZOFFSETFROM:-0500
TZOFFSETTO:-0400
DTSTART:20180311T070000
END:DAYLIGHT
BEGIN:STANDARD
TZNAME:EST
TZOFFSETFROM:-0400
TZOFFSETTO:-0500
DTSTART:20171105T060000
END:STANDARD
END:VTIMEZONE
BEGIN:VEVENT
UID:69e8c3a314612
DTSTART;TZID=America/Toronto:20180526T100000
SEQUENCE:0
TRANSP:TRANSPARENT
DTEND;TZID=America/Toronto:20180526T140000
URL:https://uwaterloo.ca/engineering/events/you-waterloo-day-2018
LOCATION:FED - Federation Hall 200 University Avenue West Waterloo ON N2L 3
 G1 Canada
SUMMARY:You @ Waterloo Day 2018
CLASS:PUBLIC
DESCRIPTION:You and your family are invited to attend this open house for\
 nstudents who have received an offer of admission to Waterloo.\n\nMay 26\
 , 2018\n10 am to 2 pm –Drop in or stay the whole time!\n\nSpeak to pr
 ofessors\, staff\, and students about your program\, take a\ncampus tour\
 , learn about residence\, and discover many of the student\nservices at W
 aterloo. 
DTSTAMP:20260422T124835Z
END:VEVENT
END:VCALENDAR