BEGIN:VCALENDAR
VERSION:2.0
PRODID:-//Drupal iCal API//EN
X-WR-CALNAME:Events items teaser
X-WR-TIMEZONE:America/Toronto
BEGIN:VTIMEZONE
TZID:America/Toronto
X-LIC-LOCATION:America/Toronto
BEGIN:DAYLIGHT
TZNAME:EDT
TZOFFSETFROM:-0500
TZOFFSETTO:-0400
DTSTART:20180311T070000
END:DAYLIGHT
BEGIN:STANDARD
TZNAME:EST
TZOFFSETFROM:-0400
TZOFFSETTO:-0500
DTSTART:20181104T060000
END:STANDARD
END:VTIMEZONE
BEGIN:VEVENT
UID:69e8617ed68f5
DTSTART;TZID=America/Toronto:20181128T150000
SEQUENCE:0
TRANSP:TRANSPARENT
DTEND;TZID=America/Toronto:20181128T160000
URL:https://uwaterloo.ca/engineering/events/reddit-ama-current-undergrad-st
 udents
SUMMARY:Reddit AMA with Current Undergrad Students
CLASS:PUBLIC
DESCRIPTION:Mark your calendars and prepare your questions! Ever wonder wha
 t life\nis like as an engineering student at UWaterloo? Trying to figure o
 ut\nwhich program is right for you? We're here to help.\n\nCurrent enginee
 ring students will be live on Reddit to answer your\nquestions from 3:00pm
  to 4:00pm on November 28th (questions will open\nstarting at 2pm!) - this
  AMA will be hosted on the UWaterloo\nsubreddit: reddit.com/r/uwaterloo/.
DTSTAMP:20260422T054950Z
END:VEVENT
END:VCALENDAR