BEGIN:VCALENDAR
VERSION:2.0
PRODID:-//Drupal iCal API//EN
X-WR-CALNAME:Events items teaser
X-WR-TIMEZONE:America/Toronto
BEGIN:VTIMEZONE
TZID:America/Toronto
X-LIC-LOCATION:America/Toronto
BEGIN:DAYLIGHT
TZNAME:EDT
TZOFFSETFROM:-0500
TZOFFSETTO:-0400
DTSTART:20180311T070000
END:DAYLIGHT
BEGIN:STANDARD
TZNAME:EST
TZOFFSETFROM:-0400
TZOFFSETTO:-0500
DTSTART:20181104T060000
END:STANDARD
END:VTIMEZONE
BEGIN:VEVENT
UID:69e982359a08b
DTSTART;TZID=America/Toronto:20190124T174500
SEQUENCE:0
TRANSP:TRANSPARENT
DTEND;TZID=America/Toronto:20190124T204500
URL:https://uwaterloo.ca/engineering/events/ana-avatar-xprize-information-s
 ession
LOCATION:PSE - Pearl Sullivan Engineering 200 University Ave West Atrium Wa
 terloo ON N2L 3G1 Canada
SUMMARY:ANA Avatar XPRIZE Information Session
CLASS:PUBLIC
DESCRIPTION:[Information Session]\n\nStudents\, researchers\, and entrepren
 eurs interested in robotics and\nartificial intelligence are invited to an
  information session on\ncampus to learn about the ANA Avatar XPRIZE compe
 tition.
DTSTAMP:20260423T022141Z
END:VEVENT
END:VCALENDAR