BEGIN:VCALENDAR
VERSION:2.0
PRODID:-//Drupal iCal API//EN
X-WR-CALNAME:Events items teaser
X-WR-TIMEZONE:America/Toronto
BEGIN:VTIMEZONE
TZID:America/Toronto
X-LIC-LOCATION:America/Toronto
BEGIN:DAYLIGHT
TZNAME:EDT
TZOFFSETFROM:-0500
TZOFFSETTO:-0400
DTSTART:20180311T070000
END:DAYLIGHT
BEGIN:STANDARD
TZNAME:EST
TZOFFSETFROM:-0400
TZOFFSETTO:-0500
DTSTART:20181104T060000
END:STANDARD
END:VTIMEZONE
BEGIN:VEVENT
UID:69ed2bf323e33
DTSTART;TZID=America/Toronto:20190225T140000
SEQUENCE:0
TRANSP:TRANSPARENT
DTEND;TZID=America/Toronto:20190225T150000
URL:https://uwaterloo.ca/engineering/events/office-hour-chris-pratley
LOCATION:Waterloo Engineering Hub Canada
SUMMARY:Office Hour with Chris Pratley\, Corporate Vice President at Micros
 oft
CLASS:PUBLIC
DESCRIPTION:Students and alumni are invited to participate in an exclusive 
 Office\nHour with engineering alumni Chris Pratley (BASc '91\, Systems Des
 ign\nEngineering)\, Corporate Vice President\, Office Media Group at\nMicr
 osoft Corporation.
DTSTAMP:20260425T210243Z
END:VEVENT
END:VCALENDAR