BEGIN:VCALENDAR
VERSION:2.0
PRODID:-//Drupal iCal API//EN
X-WR-CALNAME:Events items teaser
X-WR-TIMEZONE:America/Toronto
BEGIN:VTIMEZONE
TZID:America/Toronto
X-LIC-LOCATION:America/Toronto
BEGIN:DAYLIGHT
TZNAME:EDT
TZOFFSETFROM:-0500
TZOFFSETTO:-0400
DTSTART:20180311T070000
END:DAYLIGHT
BEGIN:STANDARD
TZNAME:EST
TZOFFSETFROM:-0400
TZOFFSETTO:-0500
DTSTART:20181104T060000
END:STANDARD
END:VTIMEZONE
BEGIN:VEVENT
UID:69e875b121285
DTSTART;TZID=America/Toronto:20190308T200000
SEQUENCE:0
TRANSP:TRANSPARENT
DTEND;TZID=America/Toronto:20190308T200000
URL:https://uwaterloo.ca/engineering/events/international-womens-day-movie-
 night
LOCATION:Princess Twin Cinemas 46 King St N Waterloo ON N2J 2W8 Canada
SUMMARY:International Women's Day Movie Night
CLASS:PUBLIC
DESCRIPTION:[Movie night poster]\n\nWomen in Engineering is celebrating Int
 ernational Women’s Day with a\nmovie screening at Princess Twin Cinemas!
  Come out to watch\nSuffragette (2015) with a live panel before the show\,
  free snacks and\na chance to meet some awesome people!
DTSTAMP:20260422T071601Z
END:VEVENT
END:VCALENDAR