BEGIN:VCALENDAR
VERSION:2.0
PRODID:-//Drupal iCal API//EN
X-WR-CALNAME:Events items teaser
X-WR-TIMEZONE:America/Toronto
BEGIN:VTIMEZONE
TZID:America/Toronto
X-LIC-LOCATION:America/Toronto
BEGIN:DAYLIGHT
TZNAME:EDT
TZOFFSETFROM:-0500
TZOFFSETTO:-0400
DTSTART:20190310T070000
END:DAYLIGHT
BEGIN:STANDARD
TZNAME:EST
TZOFFSETFROM:-0400
TZOFFSETTO:-0500
DTSTART:20181104T060000
END:STANDARD
END:VTIMEZONE
BEGIN:VEVENT
UID:69e92f3051497
DTSTART;TZID=America/Toronto:20190619T173000
SEQUENCE:0
TRANSP:TRANSPARENT
DTEND;TZID=America/Toronto:20190619T173000
URL:https://uwaterloo.ca/engineering/events/ethical-ai-separating-fact-fad
LOCATION:DC - William G. Davis Computer Research Centre 200 University Aven
 ue West DC 1302 (Fishbowl) Waterloo ON N2L 3G1 Canada
SUMMARY:Ethical AI - Separating the Fact from Fad
CLASS:PUBLIC
DESCRIPTION:[Ethical AI wordle]\n\nThe proliferation of AI has placed incre
 ased focus on the thorny topic\nof ethics: to what extent are engineers re
 sponsible for - and to what\nextent can they encode - the ethical behavior
  of the AI applications\nthey design?
DTSTAMP:20260422T202728Z
END:VEVENT
END:VCALENDAR