BEGIN:VCALENDAR
VERSION:2.0
PRODID:-//Drupal iCal API//EN
X-WR-CALNAME:Events items teaser
X-WR-TIMEZONE:America/Toronto
BEGIN:VTIMEZONE
TZID:America/Toronto
X-LIC-LOCATION:America/Toronto
BEGIN:DAYLIGHT
TZNAME:EDT
TZOFFSETFROM:-0500
TZOFFSETTO:-0400
DTSTART:20190310T070000
END:DAYLIGHT
BEGIN:STANDARD
TZNAME:EST
TZOFFSETFROM:-0400
TZOFFSETTO:-0500
DTSTART:20181104T060000
END:STANDARD
END:VTIMEZONE
BEGIN:VEVENT
UID:69e963c5083d4
DTSTART;TZID=America/Toronto:20190711T190000
SEQUENCE:0
TRANSP:TRANSPARENT
DTEND;TZID=America/Toronto:20190711T220000
URL:https://uwaterloo.ca/engineering/events/quantum-valley-investmentsr-pro
 blem-pitch-finals
LOCATION:PSE - Pearl Sullivan Engineering 200 University Ave West Second fl
 oor Waterloo ON N2L 3G1 Canada
SUMMARY:Quantum Valley Investments® Problem Pitch Finals
CLASS:PUBLIC
DESCRIPTION:[problem pitch]The Problem Lab invites you to watch the Quantum
  Valley\nInvestments® Problem Pitch Competition.\n\nTeams have each chose
 n an important industry problem\, and will now\npitch their research to a 
 panel of judges for a chance to win up to\n$30k in grant funding. The 5-mi
 nute pitches will demonstrate each\ncompetitor’s knowledge of their prob
 lem’s history\, scope\, and\nimpact.
DTSTAMP:20260423T001149Z
END:VEVENT
END:VCALENDAR