BEGIN:VCALENDAR
VERSION:2.0
PRODID:-//Drupal iCal API//EN
X-WR-CALNAME:Events items teaser
X-WR-TIMEZONE:America/Toronto
BEGIN:VTIMEZONE
TZID:America/Toronto
X-LIC-LOCATION:America/Toronto
BEGIN:DAYLIGHT
TZNAME:EDT
TZOFFSETFROM:-0500
TZOFFSETTO:-0400
DTSTART:20190310T070000
END:DAYLIGHT
BEGIN:STANDARD
TZNAME:EST
TZOFFSETFROM:-0400
TZOFFSETTO:-0500
DTSTART:20191103T060000
END:STANDARD
END:VTIMEZONE
BEGIN:VEVENT
UID:69ead55c7bcc1
DTSTART;TZID=America/Toronto:20191105T160000
SEQUENCE:0
TRANSP:TRANSPARENT
DTEND;TZID=America/Toronto:20191105T170000
URL:https://uwaterloo.ca/engineering/events/office-hour-omer-qadri-2019
SUMMARY:Office Hour with Omer Qadri of MAX Youth Fellowship
CLASS:PUBLIC
DESCRIPTION:Students and alumni are invited to participate in an exclusive 
 Office\nHour with engineering alumnus Omer Qadri (BASc '11\,\nElectrical
  Engineering)\, Program Designer &amp; Workshop Facilitator at\nthe MAX Youth
  Fellowship Program.
DTSTAMP:20260424T022844Z
END:VEVENT
END:VCALENDAR