BEGIN:VCALENDAR
VERSION:2.0
PRODID:-//Drupal iCal API//EN
X-WR-CALNAME:Events items teaser
X-WR-TIMEZONE:America/Toronto
BEGIN:VTIMEZONE
TZID:America/Toronto
X-LIC-LOCATION:America/Toronto
BEGIN:DAYLIGHT
TZNAME:EDT
TZOFFSETFROM:-0500
TZOFFSETTO:-0400
DTSTART:20200308T070000
END:DAYLIGHT
BEGIN:STANDARD
TZNAME:EST
TZOFFSETFROM:-0400
TZOFFSETTO:-0500
DTSTART:20201101T060000
END:STANDARD
END:VTIMEZONE
BEGIN:VEVENT
UID:69eb0289f291c
DTSTART;TZID=America/Toronto:20201112T140000
SEQUENCE:0
TRANSP:TRANSPARENT
DTEND;TZID=America/Toronto:20201112T150000
URL:https://uwaterloo.ca/engineering/events/office-hour-ivan-yuen-nov12
LOCATION:Waterloo Engineering Hub Canada
SUMMARY:Office Hour with Ivan Yuen (BASc '00)\, Co-Founder &amp; Chief Strategy
 \nOfficer of Wattpad
CLASS:PUBLIC
DESCRIPTION:Students and alumni are invited to participate in an exclusive 
 Office\nHour with Waterloo Engineering alumnus Ivan Yuen (BASc '00\, Comp
 uter\nEngineering)\, Co-Founder and Chief Strategy Officer of Wattpad.
DTSTAMP:20260424T054130Z
END:VEVENT
END:VCALENDAR