BEGIN:VCALENDAR
VERSION:2.0
PRODID:-//Drupal iCal API//EN
X-WR-CALNAME:Events items teaser
X-WR-TIMEZONE:America/Toronto
BEGIN:VTIMEZONE
TZID:America/Toronto
X-LIC-LOCATION:America/Toronto
BEGIN:DAYLIGHT
TZNAME:EDT
TZOFFSETFROM:-0500
TZOFFSETTO:-0400
DTSTART:20200308T070000
END:DAYLIGHT
BEGIN:STANDARD
TZNAME:EST
TZOFFSETFROM:-0400
TZOFFSETTO:-0500
DTSTART:20201101T060000
END:STANDARD
END:VTIMEZONE
BEGIN:VEVENT
UID:69e9ce5ed996d
DTSTART;TZID=America/Toronto:20210128T120000
SEQUENCE:0
TRANSP:TRANSPARENT
DTEND;TZID=America/Toronto:20210128T130000
URL:https://uwaterloo.ca/engineering/events/office-hour-paul-craven-basc-84
 -science-behind-selling
LOCATION:Waterloo Engineering Hub Canada
SUMMARY:Office Hour with Paul Craven (BASc '84): “The Science Behind\nSel
 ling: How One Engineer Went from Hating Sales to Loving Sales”
CLASS:PUBLIC
DESCRIPTION:Waterloo Engineering students and alumni are invited to partici
 pate in\nan exclusive virtual Office Hour with Waterloo Engineering alumnu
 s\nPaul Craven (BASc 1984\, Systems Design Engineering)\, President of\nR
 esponsive Brands\, who will discuss “The Science Behind Selling:\nHow O
 ne Engineer Went from Hating Sales to Loving Sales”.
DTSTAMP:20260423T074638Z
END:VEVENT
END:VCALENDAR