BEGIN:VCALENDAR
VERSION:2.0
PRODID:-//Drupal iCal API//EN
X-WR-CALNAME:Events items teaser
X-WR-TIMEZONE:America/Toronto
BEGIN:VTIMEZONE
TZID:America/Toronto
X-LIC-LOCATION:America/Toronto
BEGIN:DAYLIGHT
TZNAME:EDT
TZOFFSETFROM:-0500
TZOFFSETTO:-0400
DTSTART:20200308T070000
END:DAYLIGHT
BEGIN:STANDARD
TZNAME:EST
TZOFFSETFROM:-0400
TZOFFSETTO:-0500
DTSTART:20201101T060000
END:STANDARD
END:VTIMEZONE
BEGIN:VEVENT
UID:69e902257cf88
DTSTART;TZID=America/Toronto:20210304T130000
SEQUENCE:0
TRANSP:TRANSPARENT
DTEND;TZID=America/Toronto:20210304T140000
URL:https://uwaterloo.ca/engineering/events/office-hour-steve-waters-utilit
 ies-of-the-future-march04-2021
LOCATION:Waterloo Engineering Hub Canada
SUMMARY:Office Hour with Waterloo Engineering alumnus Steve Waters (BASc '8
 8)\non “Utilities of the Future”
CLASS:PUBLIC
DESCRIPTION:Waterloo Engineering students and alumni are invited to partici
 pate in\nan exclusive virtual Office Hour with Waterloo Engineering alumnu
 s\nSteve Waters (BASc 1988)\, Director of Engineering and Special Projects
 \nat North Shore Water Reclamation District\, who will discuss\n“Utilit
 ies of the Future”.
DTSTAMP:20260422T171517Z
END:VEVENT
END:VCALENDAR