BEGIN:VCALENDAR
VERSION:2.0
PRODID:-//Drupal iCal API//EN
X-WR-CALNAME:Events items teaser
X-WR-TIMEZONE:America/Toronto
BEGIN:VTIMEZONE
TZID:America/Toronto
X-LIC-LOCATION:America/Toronto
BEGIN:DAYLIGHT
TZNAME:EDT
TZOFFSETFROM:-0500
TZOFFSETTO:-0400
DTSTART:20200308T070000
END:DAYLIGHT
BEGIN:STANDARD
TZNAME:EST
TZOFFSETFROM:-0400
TZOFFSETTO:-0500
DTSTART:20201101T060000
END:STANDARD
END:VTIMEZONE
BEGIN:VEVENT
UID:69e904794d770
DTSTART;TZID=America/Toronto:20210305T133000
SEQUENCE:0
TRANSP:TRANSPARENT
DTEND;TZID=America/Toronto:20210305T143000
URL:https://uwaterloo.ca/engineering/events/office-hour-international-women
 s-day-event-challenging-workplace-norms-04march2021
LOCATION:Waterloo Engineering Hub Canada
SUMMARY:Office Hour: International Women's Day Event \"Challenging Workplac
 e\nNorms for Better Roles &amp; Opportunities\"
CLASS:PUBLIC
DESCRIPTION:Waterloo Engineering students and alumni are invited to partici
 pate in\nan exclusive virtual Office Hour \"Challenging Workplace Norms f
 or\nBetter Roles &amp; Opportunities\".
DTSTAMP:20260422T172513Z
END:VEVENT
END:VCALENDAR