BEGIN:VCALENDAR
VERSION:2.0
PRODID:-//Drupal iCal API//EN
X-WR-CALNAME:Events items teaser
X-WR-TIMEZONE:America/Toronto
BEGIN:VTIMEZONE
TZID:America/Toronto
X-LIC-LOCATION:America/Toronto
BEGIN:DAYLIGHT
TZNAME:EDT
TZOFFSETFROM:-0500
TZOFFSETTO:-0400
DTSTART:20210314T070000
END:DAYLIGHT
BEGIN:STANDARD
TZNAME:EST
TZOFFSETFROM:-0400
TZOFFSETTO:-0500
DTSTART:20201101T060000
END:STANDARD
END:VTIMEZONE
BEGIN:VEVENT
UID:69eafc88a1ea2
DTSTART;TZID=America/Toronto:20210429T130000
SEQUENCE:0
TRANSP:TRANSPARENT
DTEND;TZID=America/Toronto:20210429T130000
URL:https://uwaterloo.ca/engineering/events/everything-you-wanted-know-abou
 t-5g-were-afraid-ask-alumni
SUMMARY:ALUMNI SPEAKER SERIES \"Everything You Wanted to Know About 5G but 
 Were\nAfraid to Ask\"
CLASS:PUBLIC
DESCRIPTION:ALUMNI SPEAKER SERIES\nEVERYTHING YOU WANTED TO KNOW ABOUT 5G B
 UT WERE AFRAID TO ASK\n\nThe fifth generation of technology for cellular n
 etworks\, also known\nas 5G\, is poised to change the way we connect and c
 ommunicate: with\nother humans\, with machines\, and how machines communic
 ate with each\nother. 
DTSTAMP:20260424T051552Z
END:VEVENT
END:VCALENDAR