BEGIN:VCALENDAR
VERSION:2.0
PRODID:-//Drupal iCal API//EN
X-WR-CALNAME:Events items teaser
X-WR-TIMEZONE:America/Toronto
BEGIN:VTIMEZONE
TZID:America/Toronto
X-LIC-LOCATION:America/Toronto
BEGIN:DAYLIGHT
TZNAME:EDT
TZOFFSETFROM:-0500
TZOFFSETTO:-0400
DTSTART:20210314T070000
END:DAYLIGHT
BEGIN:STANDARD
TZNAME:EST
TZOFFSETFROM:-0400
TZOFFSETTO:-0500
DTSTART:20201101T060000
END:STANDARD
END:VTIMEZONE
BEGIN:VEVENT
UID:69e8149a51974
DTSTART;TZID=America/Toronto:20210408T133000
SEQUENCE:0
TRANSP:TRANSPARENT
DTEND;TZID=America/Toronto:20210408T143000
URL:https://uwaterloo.ca/engineering/events/office-hour-master-networking-s
 kills-launch-your-career
LOCATION:Waterloo Engineering Hub Canada
SUMMARY:Office Hour: \"Master Networking Skills to Launch Your Career\"
CLASS:PUBLIC
DESCRIPTION:Waterloo Engineering students and alumni are invited to partici
 pate in\nan exclusive virtual Office Hour \"Master Networking Skills to L
 aunch\nYour Career\" sponsored by Ten Thousand Coffees.\n\nWe all know the
  best time to network is when you have a job (instead\nof when you want to
  find a job). In today’s virtual reality\, this is\nhard to do\, particu
 larly if you don’t know how. In addition\, we know\nthat fear and nerves
  can get in the way when trying to network at a\nfirst job or internship. 
 But don't worry\, we have you covered!
DTSTAMP:20260422T002146Z
END:VEVENT
END:VCALENDAR