BEGIN:VCALENDAR
VERSION:2.0
PRODID:-//Drupal iCal API//EN
X-WR-CALNAME:Events items teaser
X-WR-TIMEZONE:America/Toronto
BEGIN:VTIMEZONE
TZID:America/Toronto
X-LIC-LOCATION:America/Toronto
BEGIN:DAYLIGHT
TZNAME:EDT
TZOFFSETFROM:-0500
TZOFFSETTO:-0400
DTSTART:20210314T070000
END:DAYLIGHT
BEGIN:STANDARD
TZNAME:EST
TZOFFSETFROM:-0400
TZOFFSETTO:-0500
DTSTART:20201101T060000
END:STANDARD
END:VTIMEZONE
BEGIN:VEVENT
UID:69e7fd5fee5d7
DTSTART;TZID=America/Toronto:20210512T130000
SEQUENCE:0
TRANSP:TRANSPARENT
DTEND;TZID=America/Toronto:20210512T140000
URL:https://uwaterloo.ca/engineering/events/office-hour-rob-otway-12may2021
LOCATION:Waterloo Engineering Hub Canada
SUMMARY:Office Hour with Waterloo Engineering alumnus Rob Otway (BASc ‘85
 )\,\nExecutive Vice President at Bird Construction on “Follow Your Own\n
 Path\"
CLASS:PUBLIC
DESCRIPTION:Waterloo Engineering students and alumni are invited to partici
 pate in\nan exclusive virtual Office Hour with Waterloo Engineering alumnu
 s Rob\nOtway (BASc 1985\, Civil Engineering)\, Executive Vice President\n
 Buildings West at Bird Construction\, who will discuss “Follow Your\nOw
 n Path”.
DTSTAMP:20260421T224239Z
END:VEVENT
END:VCALENDAR