BEGIN:VCALENDAR
VERSION:2.0
PRODID:-//Drupal iCal API//EN
X-WR-CALNAME:Events items teaser
X-WR-TIMEZONE:America/Toronto
BEGIN:VTIMEZONE
TZID:America/Toronto
X-LIC-LOCATION:America/Toronto
BEGIN:DAYLIGHT
TZNAME:EDT
TZOFFSETFROM:-0500
TZOFFSETTO:-0400
DTSTART:20210314T070000
END:DAYLIGHT
BEGIN:STANDARD
TZNAME:EST
TZOFFSETFROM:-0400
TZOFFSETTO:-0500
DTSTART:20201101T060000
END:STANDARD
END:VTIMEZONE
BEGIN:VEVENT
UID:69ea71cf31383
DTSTART;TZID=America/Toronto:20210520T130000
SEQUENCE:0
TRANSP:TRANSPARENT
DTEND;TZID=America/Toronto:20210520T130000
URL:https://uwaterloo.ca/engineering/events/alumni-speaker-series-next-gene
 ration-implants-and-medical
SUMMARY:ALUMNI SPEAKER SERIES \"Next Generation of Implants and Medical\nDe
 vices: Exploring Additive Manufacturing’s New Biofabrication\nFrontiers\
 "
CLASS:PUBLIC
DESCRIPTION:ALUMNI SPEAKER SERIES\n\"NEXT GENERATION OF IMPLANTS AND MEDICA
 L DEVICES: EXPLORING ADDITIVE\nMANUFACTURING’S NEW BIOFABRICATION FRONTI
 ERS\"\"
DTSTAMP:20260423T192359Z
END:VEVENT
END:VCALENDAR