BEGIN:VCALENDAR
VERSION:2.0
PRODID:-//Drupal iCal API//EN
X-WR-CALNAME:Events items teaser
X-WR-TIMEZONE:America/Toronto
BEGIN:VTIMEZONE
TZID:America/Toronto
X-LIC-LOCATION:America/Toronto
BEGIN:DAYLIGHT
TZNAME:EDT
TZOFFSETFROM:-0500
TZOFFSETTO:-0400
DTSTART:20210314T070000
END:DAYLIGHT
BEGIN:STANDARD
TZNAME:EST
TZOFFSETFROM:-0400
TZOFFSETTO:-0500
DTSTART:20201101T060000
END:STANDARD
END:VTIMEZONE
BEGIN:VEVENT
UID:69e8149b66124
DTSTART;TZID=America/Toronto:20210504T130000
SEQUENCE:0
TRANSP:TRANSPARENT
DTEND;TZID=America/Toronto:20210504T140000
URL:https://uwaterloo.ca/engineering/events/office-hour-artem-avdacev-04may
 2021
LOCATION:Waterloo Engineering Hub Canada
SUMMARY:Office Hour with Waterloo Engineering alumnus Artem Avdacev (BSE\n
 ‘11)\, Co-Founder of SBX Robotics
CLASS:PUBLIC
DESCRIPTION:Waterloo Engineering students and alumni are invited to partici
 pate in\nan exclusive virtual Office Hour with alumnus Artem Avdacev (BSE 
 2011\,\nSoftware Engineering)\, Co-Founder of SBX Robotics who will discu
 ss\nthe future of computer vision and robotics.\n\nDuring this Office Hour
 \, Artem will talk about his career journey from\nrunning Yelp’s Trust a
 nd Safety team to now teaching robots how to\nsee using a virtual world at
  SBX Robotics. Join fellow alumni and\nstudents for this virtual Office Ho
 ur to gain access to Artem’s\nexperience\, career advice and view of the
  future of robotics.
DTSTAMP:20260422T002147Z
END:VEVENT
END:VCALENDAR