BEGIN:VCALENDAR
VERSION:2.0
PRODID:-//Drupal iCal API//EN
X-WR-CALNAME:Events items teaser
X-WR-TIMEZONE:America/Toronto
BEGIN:VTIMEZONE
TZID:America/Toronto
X-LIC-LOCATION:America/Toronto
BEGIN:DAYLIGHT
TZNAME:EDT
TZOFFSETFROM:-0500
TZOFFSETTO:-0400
DTSTART:20210314T070000
END:DAYLIGHT
BEGIN:STANDARD
TZNAME:EST
TZOFFSETFROM:-0400
TZOFFSETTO:-0500
DTSTART:20201101T060000
END:STANDARD
END:VTIMEZONE
BEGIN:VEVENT
UID:69e8149ce2ff4
DTSTART;TZID=America/Toronto:20210602T130000
SEQUENCE:0
TRANSP:TRANSPARENT
DTEND;TZID=America/Toronto:20210602T140000
URL:https://uwaterloo.ca/engineering/events/office-hour-mohit-sharma-zochem
 -02june2021
LOCATION:Waterloo Engineering Hub Canada
SUMMARY:Office Hour with Mohit Sharma (BASc ’04)\, President &amp; CEO of Zoc
 hem
CLASS:PUBLIC
DESCRIPTION:Mohit Sharma (BASc ’04\, Chemical Engineering)\, president an
 d CEO of\nZochem is looking forward to hosting an exclusive virtual Office
  Hour\nfor fellow alumni and current Waterloo Engineering students.
DTSTAMP:20260422T002148Z
END:VEVENT
END:VCALENDAR