BEGIN:VCALENDAR
VERSION:2.0
PRODID:-//Drupal iCal API//EN
X-WR-CALNAME:Events items teaser
X-WR-TIMEZONE:America/Toronto
BEGIN:VTIMEZONE
TZID:America/Toronto
X-LIC-LOCATION:America/Toronto
BEGIN:DAYLIGHT
TZNAME:EDT
TZOFFSETFROM:-0500
TZOFFSETTO:-0400
DTSTART:20210314T070000
END:DAYLIGHT
BEGIN:STANDARD
TZNAME:EST
TZOFFSETFROM:-0400
TZOFFSETTO:-0500
DTSTART:20201101T060000
END:STANDARD
END:VTIMEZONE
BEGIN:VEVENT
UID:69e81499dcb5a
DTSTART;TZID=America/Toronto:20210715T133000
SEQUENCE:0
TRANSP:TRANSPARENT
DTEND;TZID=America/Toronto:20210715T143000
URL:https://uwaterloo.ca/engineering/events/office-hour-should-i-start-busi
 ness-or-get-job-15july2021
LOCATION:Waterloo Engineering Hub Canada
SUMMARY:Office Hour: \"Should I Start a Business or Get a Job?\"
CLASS:PUBLIC
DESCRIPTION:Waterloo Engineering students and alumni are invited to partici
 pate in\nan exclusive virtual Office Hour \"Should I Start a Business or 
 Get a\nJob?\" sponsored by Ten Thousand Coffees.\n\nLet the great debate b
 egin! On July 15th\, join us for our most\ncontroversial Office Hour yet: 
 deciding if you should stake out and\ncreate your own venture or accept th
 at job offer. If you’re still\nnavigating your next steps as a fresh gra
 duate or if you've ever\nthought about starting your own business but didn
 ’t know if it was\nthe right move\, this is the event for you!
DTSTAMP:20260422T002145Z
END:VEVENT
END:VCALENDAR