BEGIN:VCALENDAR
VERSION:2.0
PRODID:-//Drupal iCal API//EN
X-WR-CALNAME:Events items teaser
X-WR-TIMEZONE:America/Toronto
BEGIN:VTIMEZONE
TZID:America/Toronto
X-LIC-LOCATION:America/Toronto
BEGIN:DAYLIGHT
TZNAME:EDT
TZOFFSETFROM:-0500
TZOFFSETTO:-0400
DTSTART:20210314T070000
END:DAYLIGHT
BEGIN:STANDARD
TZNAME:EST
TZOFFSETFROM:-0400
TZOFFSETTO:-0500
DTSTART:20201101T060000
END:STANDARD
END:VTIMEZONE
BEGIN:VEVENT
UID:69e8149d6631f
DTSTART;TZID=America/Toronto:20210928T133000
SEQUENCE:0
TRANSP:TRANSPARENT
DTEND;TZID=America/Toronto:20210928T143000
URL:https://uwaterloo.ca/engineering/events/office-hour-student-training-ta
 ke-charge-your-career-development-28sept2021
LOCATION:Waterloo Engineering Hub Canada
SUMMARY:Office Hour: \"Student Training: Take Charge of Your Career Develop
 ment\nWith Ten Thousand Coffees\"
CLASS:PUBLIC
DESCRIPTION:Waterloo Engineering students are invited to participate in an\
 nexclusive virtual Office Hour \"Student Training: Take Charge of Your\n
 Career Development with Ten Thousand Coffees\" sponsored by Ten\nThousand
  Coffees.
DTSTAMP:20260422T002149Z
END:VEVENT
END:VCALENDAR