BEGIN:VCALENDAR
VERSION:2.0
PRODID:-//Drupal iCal API//EN
X-WR-CALNAME:Events items teaser
X-WR-TIMEZONE:America/Toronto
BEGIN:VTIMEZONE
TZID:America/Toronto
X-LIC-LOCATION:America/Toronto
BEGIN:DAYLIGHT
TZNAME:EDT
TZOFFSETFROM:-0500
TZOFFSETTO:-0400
DTSTART:20210314T070000
END:DAYLIGHT
BEGIN:STANDARD
TZNAME:EST
TZOFFSETFROM:-0400
TZOFFSETTO:-0500
DTSTART:20201101T060000
END:STANDARD
END:VTIMEZONE
BEGIN:VEVENT
UID:69e78497a1f13
DTSTART;TZID=America/Toronto:20211006T120000
SEQUENCE:0
TRANSP:TRANSPARENT
DTEND;TZID=America/Toronto:20211006T130000
URL:https://uwaterloo.ca/engineering/events/office-hour-mark-chien-amazon-0
 6oct2021
LOCATION:Waterloo Engineering Hub Canada
SUMMARY:Office Hour with Mark Chien (BASc '01)\, Head of CRM Platform at Am
 azon\nWeb Services
CLASS:PUBLIC
DESCRIPTION:Waterloo Engineering students and alumni are invited to partici
 pate in\nan exclusive virtual Office Hour with Waterloo Engineering alumnu
 s\nMark Chien (BASc '01\, Systems Design Engineering)\, Head of CRM\nPlatf
 orm for Amazon Web Services. 
DTSTAMP:20260421T140719Z
END:VEVENT
END:VCALENDAR