BEGIN:VCALENDAR
VERSION:2.0
PRODID:-//Drupal iCal API//EN
X-WR-CALNAME:Events items teaser
X-WR-TIMEZONE:America/Toronto
BEGIN:VTIMEZONE
TZID:America/Toronto
X-LIC-LOCATION:America/Toronto
BEGIN:DAYLIGHT
TZNAME:EDT
TZOFFSETFROM:-0500
TZOFFSETTO:-0400
DTSTART:20210314T070000
END:DAYLIGHT
BEGIN:STANDARD
TZNAME:EST
TZOFFSETFROM:-0400
TZOFFSETTO:-0500
DTSTART:20211107T060000
END:STANDARD
END:VTIMEZONE
BEGIN:VEVENT
UID:69e63b1deef50
DTSTART;TZID=America/Toronto:20220118T130000
SEQUENCE:0
TRANSP:TRANSPARENT
DTEND;TZID=America/Toronto:20220118T140000
URL:https://uwaterloo.ca/engineering/events/office-hour-andrew-cross-logan-
 and-fuller-goosechase-18jan2022
LOCATION:Waterloo Engineering Hub Canada
SUMMARY:Office Hour with Andrew Cross (BASc '11) and Logan Fuller of\nGoose
 Chase Adventures
CLASS:PUBLIC
DESCRIPTION:Waterloo Engineering students and alumni are invited to partici
 pate in\nan exclusive virtual Office Hour with Waterloo Engineering alumnu
 s\nAndrew Cross (BASc '11\, Mechanical Engineering)\, founder and CEO\, an
 d\npast electrical engineering student Logan Fuller\, CTO\, of GooseChase\
 nAdventures.
DTSTAMP:20260420T144133Z
END:VEVENT
END:VCALENDAR