BEGIN:VCALENDAR
VERSION:2.0
PRODID:-//Drupal iCal API//EN
X-WR-CALNAME:Events items teaser
X-WR-TIMEZONE:America/Toronto
BEGIN:VTIMEZONE
TZID:America/Toronto
X-LIC-LOCATION:America/Toronto
BEGIN:DAYLIGHT
TZNAME:EDT
TZOFFSETFROM:-0500
TZOFFSETTO:-0400
DTSTART:20210314T070000
END:DAYLIGHT
BEGIN:STANDARD
TZNAME:EST
TZOFFSETFROM:-0400
TZOFFSETTO:-0500
DTSTART:20211107T060000
END:STANDARD
END:VTIMEZONE
BEGIN:VEVENT
UID:69eafc8b29821
DTSTART;TZID=America/Toronto:20220223T130000
SEQUENCE:0
TRANSP:TRANSPARENT
DTEND;TZID=America/Toronto:20220223T130000
URL:https://uwaterloo.ca/engineering/events/alumni-speaker-series-the-right
 -to-housing-23feb2022
LOCATION:Zoom - link will be shared with those who register Canada
SUMMARY:ALUMNI SPEAKER SERIES “A Canadian’s Right to Housing: How Do We
 \nGet There\"
CLASS:PUBLIC
DESCRIPTION:ALUMNI SPEAKER SERIES
DTSTAMP:20260424T051555Z
END:VEVENT
END:VCALENDAR