BEGIN:VCALENDAR
VERSION:2.0
PRODID:-//Drupal iCal API//EN
X-WR-CALNAME:Events items teaser
X-WR-TIMEZONE:America/Toronto
BEGIN:VTIMEZONE
TZID:America/Toronto
X-LIC-LOCATION:America/Toronto
BEGIN:DAYLIGHT
TZNAME:EDT
TZOFFSETFROM:-0500
TZOFFSETTO:-0400
DTSTART:20210314T070000
END:DAYLIGHT
BEGIN:STANDARD
TZNAME:EST
TZOFFSETFROM:-0400
TZOFFSETTO:-0500
DTSTART:20211107T060000
END:STANDARD
END:VTIMEZONE
BEGIN:VEVENT
UID:69e7849426307
DTSTART;TZID=America/Toronto:20220209T120000
SEQUENCE:0
TRANSP:TRANSPARENT
DTEND;TZID=America/Toronto:20220209T130000
URL:https://uwaterloo.ca/engineering/events/office-hour-rob-otway-09feb2022
LOCATION:Waterloo Engineering Hub Canada
SUMMARY:Office Hour with Rob Otway (BASc ‘85)\, Executive Vice President 
 at\nBird Construction on “Follow Your Own Path\"
CLASS:PUBLIC
DESCRIPTION:Waterloo Engineering students and alumni are invited to partici
 pate in\nan exclusive virtual Office Hour with Waterloo Engineering alumnu
 s Rob\nOtway (BASc 1985\, Civil Engineering)\, Executive Vice President\n
 Buildings West at Bird Construction\, who will discuss “Follow Your\nOw
 n Path”.
DTSTAMP:20260421T140716Z
END:VEVENT
END:VCALENDAR