BEGIN:VCALENDAR
VERSION:2.0
PRODID:-//Drupal iCal API//EN
X-WR-CALNAME:Events items teaser
X-WR-TIMEZONE:America/Toronto
BEGIN:VTIMEZONE
TZID:America/Toronto
X-LIC-LOCATION:America/Toronto
BEGIN:DAYLIGHT
TZNAME:EDT
TZOFFSETFROM:-0500
TZOFFSETTO:-0400
DTSTART:20220313T070000
END:DAYLIGHT
BEGIN:STANDARD
TZNAME:EST
TZOFFSETFROM:-0400
TZOFFSETTO:-0500
DTSTART:20211107T060000
END:STANDARD
END:VTIMEZONE
BEGIN:VEVENT
UID:69e663e51844a
DTSTART;TZID=America/Toronto:20220317T120000
SEQUENCE:0
TRANSP:TRANSPARENT
DTEND;TZID=America/Toronto:20220317T130000
URL:https://uwaterloo.ca/engineering/events/office-hour-benoit-drouin-colli
 ns-aerospace-17march2022
LOCATION:Waterloo Engineering Hub Canada
SUMMARY:Office Hour with Benoît Drouin (BASc '94)\, Sales Manager at Colli
 ns\nAerospace on \"From Engineering to Sales\, My Career in Aerospace\nTec
 hnical Sales\"
CLASS:PUBLIC
DESCRIPTION:Waterloo Engineering students and alumni are invited to partici
 pate in\nan exclusive virtual Office Hour with Waterloo Engineering alumnu
 s\nBenoît Drouin (BASc 1994\, Mechanical Engineering)\, Sales Manager\n(
 Canada) at Collins Aerospace\, who will discuss “From Engineering\nto S
 ales\, My Career in Aerospace Technical Sales”.
DTSTAMP:20260420T173533Z
END:VEVENT
END:VCALENDAR