BEGIN:VCALENDAR
VERSION:2.0
PRODID:-//Drupal iCal API//EN
X-WR-CALNAME:Events items teaser
X-WR-TIMEZONE:America/Toronto
BEGIN:VTIMEZONE
TZID:America/Toronto
X-LIC-LOCATION:America/Toronto
BEGIN:DAYLIGHT
TZNAME:EDT
TZOFFSETFROM:-0500
TZOFFSETTO:-0400
DTSTART:20220313T070000
END:DAYLIGHT
BEGIN:STANDARD
TZNAME:EST
TZOFFSETFROM:-0400
TZOFFSETTO:-0500
DTSTART:20211107T060000
END:STANDARD
END:VTIMEZONE
BEGIN:VEVENT
UID:69e6abf3986fc
DTSTART;TZID=America/Toronto:20220407T130000
SEQUENCE:0
TRANSP:TRANSPARENT
DTEND;TZID=America/Toronto:20220407T140000
URL:https://uwaterloo.ca/engineering/events/office-hour-crystal-lee-rora-ho
 w-to-negotiate-07april2022
LOCATION:Waterloo Engineering Hub Canada
SUMMARY:Office Hour with Crystal Lee\, Head of Career Agents at Rora\, on \
 "How\nto Negotiate\"
CLASS:PUBLIC
DESCRIPTION:Waterloo Engineering students and alumni are invited to partici
 pate in\nan exclusive virtual Office Hour with Crystal Lee\, Head of Caree
 r\nAgents at Rora\, who will discuss how to negotiate and choose the right
 \njob offer.
DTSTAMP:20260420T224259Z
END:VEVENT
END:VCALENDAR