BEGIN:VCALENDAR
VERSION:2.0
PRODID:-//Drupal iCal API//EN
X-WR-CALNAME:Events items teaser
X-WR-TIMEZONE:America/Toronto
BEGIN:VTIMEZONE
TZID:America/Toronto
X-LIC-LOCATION:America/Toronto
BEGIN:DAYLIGHT
TZNAME:EDT
TZOFFSETFROM:-0500
TZOFFSETTO:-0400
DTSTART:20220313T070000
END:DAYLIGHT
BEGIN:STANDARD
TZNAME:EST
TZOFFSETFROM:-0400
TZOFFSETTO:-0500
DTSTART:20211107T060000
END:STANDARD
END:VTIMEZONE
BEGIN:VEVENT
UID:69e9ce626503a
DTSTART;TZID=America/Toronto:20220609T091500
SEQUENCE:0
TRANSP:TRANSPARENT
DTEND;TZID=America/Toronto:20220609T155000
URL:https://uwaterloo.ca/engineering/events/waterlooai-event-ai-job-fair
SUMMARY:Waterloo.AI Event: AI Job Fair
CLASS:PUBLIC
DESCRIPTION:* Are you interested in Artificial Intelligence?\n * Are you a 
 Master's Student? Ph.D. Student? 4yr Undergrad Student?\n * Are you lookin
 g for your next intern? Full-time position in AI?\n * Are you looking to l
 earn about AI in the industry?\n\nIf you have answered YES to all\, you ar
 e in for a treat!
DTSTAMP:20260423T074642Z
END:VEVENT
END:VCALENDAR