BEGIN:VCALENDAR
VERSION:2.0
PRODID:-//Drupal iCal API//EN
X-WR-CALNAME:Events items teaser
X-WR-TIMEZONE:America/Toronto
BEGIN:VTIMEZONE
TZID:America/Toronto
X-LIC-LOCATION:America/Toronto
BEGIN:DAYLIGHT
TZNAME:EDT
TZOFFSETFROM:-0500
TZOFFSETTO:-0400
DTSTART:20220313T070000
END:DAYLIGHT
BEGIN:STANDARD
TZNAME:EST
TZOFFSETFROM:-0400
TZOFFSETTO:-0500
DTSTART:20211107T060000
END:STANDARD
END:VTIMEZONE
BEGIN:VEVENT
UID:69e526720b825
DTSTART;TZID=America/Toronto:20220714T120000
SEQUENCE:0
TRANSP:TRANSPARENT
DTEND;TZID=America/Toronto:20220714T143000
URL:https://uwaterloo.ca/engineering/events/concept-5k-finals-0
LOCATION:Black and Gold Room\, SLC Floor 2 Canada
SUMMARY:Concept $5K Finals
CLASS:PUBLIC
DESCRIPTION:Concept $5K Finals
DTSTAMP:20260419T190106Z
END:VEVENT
END:VCALENDAR