BEGIN:VCALENDAR
VERSION:2.0
PRODID:-//Drupal iCal API//EN
X-WR-CALNAME:Events items teaser
X-WR-TIMEZONE:America/Toronto
BEGIN:VTIMEZONE
TZID:America/Toronto
X-LIC-LOCATION:America/Toronto
BEGIN:DAYLIGHT
TZNAME:EDT
TZOFFSETFROM:-0500
TZOFFSETTO:-0400
DTSTART:20220313T070000
END:DAYLIGHT
BEGIN:STANDARD
TZNAME:EST
TZOFFSETFROM:-0400
TZOFFSETTO:-0500
DTSTART:20211107T060000
END:STANDARD
END:VTIMEZONE
BEGIN:VEVENT
UID:69e661915ae4e
DTSTART;TZID=America/Toronto:20220915T130000
SEQUENCE:0
TRANSP:TRANSPARENT
DTEND;TZID=America/Toronto:20220915T140000
URL:https://uwaterloo.ca/engineering/events/office-hour-waterloo-engineerin
 g-alumni-jason-tham-and-emily-shepherd-nulogy-15sept2022
LOCATION:Waterloo Engineering Hub Canada
SUMMARY:Office Hour with Waterloo Engineering alumni Jason Tham (BASc ’02
 )\nand Emily Shepherd (BASc ’19) of Nulogy
CLASS:PUBLIC
DESCRIPTION:Waterloo Engineering students and alumni are invited to partici
 pate in\nan exclusive virtual Office Hour with Waterloo Engineering alumni
 \nJason Tham (BASc 2002\, Systems Design Engineering)\, CEO of Nulogy\, an
 d\nEmily Shepherd (BASc 2019\, Systems Design Engineering)\, Product\nMana
 ger at Nulogy.
DTSTAMP:20260420T172537Z
END:VEVENT
END:VCALENDAR