BEGIN:VCALENDAR
VERSION:2.0
PRODID:-//Drupal iCal API//EN
X-WR-CALNAME:Events items teaser
X-WR-TIMEZONE:America/Toronto
BEGIN:VTIMEZONE
TZID:America/Toronto
X-LIC-LOCATION:America/Toronto
BEGIN:DAYLIGHT
TZNAME:EDT
TZOFFSETFROM:-0500
TZOFFSETTO:-0400
DTSTART:20220313T070000
END:DAYLIGHT
BEGIN:STANDARD
TZNAME:EST
TZOFFSETFROM:-0400
TZOFFSETTO:-0500
DTSTART:20211107T060000
END:STANDARD
END:VTIMEZONE
BEGIN:VEVENT
UID:69eafc8825f18
DTSTART;TZID=America/Toronto:20221020T130000
SEQUENCE:0
TRANSP:TRANSPARENT
DTEND;TZID=America/Toronto:20221020T130000
URL:https://uwaterloo.ca/engineering/events/alumni-speaker-series-dontlooku
 p-understanding-difficult-technological-truths-20oct2022
LOCATION:Zoom - link will be shared with those who register Canada
SUMMARY:ALUMNI SPEAKER SERIES “Don’t Look Up! Understanding Difficult\n
 Technological Truths\"
CLASS:PUBLIC
DESCRIPTION:ALUMNI SPEAKER SERIES
DTSTAMP:20260424T051552Z
END:VEVENT
END:VCALENDAR