BEGIN:VCALENDAR
VERSION:2.0
PRODID:-//Drupal iCal API//EN
X-WR-CALNAME:Events items teaser
X-WR-TIMEZONE:America/Toronto
BEGIN:VTIMEZONE
TZID:America/Toronto
X-LIC-LOCATION:America/Toronto
BEGIN:DAYLIGHT
TZNAME:EDT
TZOFFSETFROM:-0500
TZOFFSETTO:-0400
DTSTART:20220313T070000
END:DAYLIGHT
BEGIN:STANDARD
TZNAME:EST
TZOFFSETFROM:-0400
TZOFFSETTO:-0500
DTSTART:20211107T060000
END:STANDARD
END:VTIMEZONE
BEGIN:VEVENT
UID:69e613f04bfe5
DTSTART;TZID=America/Toronto:20221005T120000
SEQUENCE:0
TRANSP:TRANSPARENT
DTEND;TZID=America/Toronto:20221005T130000
URL:https://uwaterloo.ca/engineering/events/office-hour-alim-khamisa-05oct2
 022
LOCATION:Waterloo Engineering Hub Canada
SUMMARY:Office Hour with Waterloo Engineering alumnus Alim Khamisa (MBET\n
 ’10)\, Product Manager at Element Finance &amp; Co-Founder of DeFi\nToronto
CLASS:PUBLIC
DESCRIPTION:Waterloo Engineering students and alumni are invited to partici
 pate in\nan exclusive virtual Office Hour with Waterloo Engineering alumni
  Alim\nKhamisa (MBET 2010)\, product manager at Element Finance\n[https://
 www.element.fi/] and co-founder of DeFi Toronto\n[https://www.meetup.com/d
 efi-toronto/] to learn about Web3 and the\nemergence of a new blockchain-
 based financial system – decentralized\nfinance (DeFi).
DTSTAMP:20260420T115424Z
END:VEVENT
END:VCALENDAR