BEGIN:VCALENDAR
VERSION:2.0
PRODID:-//Drupal iCal API//EN
X-WR-CALNAME:Events items teaser
X-WR-TIMEZONE:America/Toronto
BEGIN:VTIMEZONE
TZID:America/Toronto
X-LIC-LOCATION:America/Toronto
BEGIN:DAYLIGHT
TZNAME:EDT
TZOFFSETFROM:-0500
TZOFFSETTO:-0400
DTSTART:20220313T070000
END:DAYLIGHT
BEGIN:STANDARD
TZNAME:EST
TZOFFSETFROM:-0400
TZOFFSETTO:-0500
DTSTART:20211107T060000
END:STANDARD
END:VTIMEZONE
BEGIN:VEVENT
UID:69e52dcd9bb9e
DTSTART;TZID=America/Toronto:20221027T150000
SEQUENCE:0
TRANSP:TRANSPARENT
DTEND;TZID=America/Toronto:20221027T160000
URL:https://uwaterloo.ca/engineering/events/office-hour-careersinclimate-pa
 rt-one-27oct2022
LOCATION:Waterloo Engineering Hub Canada
SUMMARY:Office Hour: #CareersinClimate Part 1: How Canada's largest\norgani
 zations are building a more sustainable future
CLASS:PUBLIC
DESCRIPTION:Waterloo Engineering alumni and current students are invited to
 \nparticipate in an exclusive virtual Office Hour sponsored by Ten\nThou
 sand Coffees.\n\nClimate change is one of the most pressing issues of our 
 time -\npresenting both a challenge and incredible opportunity to make\npo
 sitive change for future generations. Change can happen at any level\n- fr
 om the choices that individuals make on a daily basis to the\ncommitments 
 that large organizations make towards a more sustainable\nfuture.
DTSTAMP:20260419T193229Z
END:VEVENT
END:VCALENDAR