BEGIN:VCALENDAR
VERSION:2.0
PRODID:-//Drupal iCal API//EN
X-WR-CALNAME:Events items teaser
X-WR-TIMEZONE:America/Toronto
BEGIN:VTIMEZONE
TZID:America/Toronto
X-LIC-LOCATION:America/Toronto
BEGIN:DAYLIGHT
TZNAME:EDT
TZOFFSETFROM:-0500
TZOFFSETTO:-0400
DTSTART:20220313T070000
END:DAYLIGHT
BEGIN:STANDARD
TZNAME:EST
TZOFFSETFROM:-0400
TZOFFSETTO:-0500
DTSTART:20221106T060000
END:STANDARD
END:VTIMEZONE
BEGIN:VEVENT
UID:69e52e38d77e7
DTSTART;TZID=America/Toronto:20230117T120000
SEQUENCE:0
TRANSP:TRANSPARENT
DTEND;TZID=America/Toronto:20230117T130000
URL:https://uwaterloo.ca/engineering/events/office-hour-shawn-freeman-17jan
 2023
LOCATION:Waterloo Engineering Hub Canada
SUMMARY:Office Hour with Shawn Freeman (MMSc ’14)\, Mentor\, Technology\n
 Entrepreneur\, and Partner
CLASS:PUBLIC
DESCRIPTION:Waterloo Engineering students and alumni are invited to partici
 pate in\nan exclusive virtual Office Hour with Waterloo Engineering alumni
 \nShawn Freeman (MMSc ‘14\, management sciences)\, mentor\, tech expert\
 nand entrepreneur\, to learn about leadership and the various stages of\n
 a start-up: transitioning from an employee to owning a business\,\nscaling
  it\, selling and then exiting.
DTSTAMP:20260419T193416Z
END:VEVENT
END:VCALENDAR