BEGIN:VCALENDAR
VERSION:2.0
PRODID:-//Drupal iCal API//EN
X-WR-CALNAME:Events items teaser
X-WR-TIMEZONE:America/Toronto
BEGIN:VTIMEZONE
TZID:America/Toronto
X-LIC-LOCATION:America/Toronto
BEGIN:DAYLIGHT
TZNAME:EDT
TZOFFSETFROM:-0500
TZOFFSETTO:-0400
DTSTART:20220313T070000
END:DAYLIGHT
BEGIN:STANDARD
TZNAME:EST
TZOFFSETFROM:-0400
TZOFFSETTO:-0500
DTSTART:20221106T060000
END:STANDARD
END:VTIMEZONE
BEGIN:VEVENT
UID:69e52e8021176
DTSTART;TZID=America/Toronto:20230216T100000
SEQUENCE:0
TRANSP:TRANSPARENT
DTEND;TZID=America/Toronto:20230216T110000
URL:https://uwaterloo.ca/engineering/events/watertalk-droughts-human-domina
 ted-world-feedbacks-legacies
LOCATION:Online Canada
SUMMARY:WaterTalk: Droughts in a human-dominated world: Feedbacks\, legacie
 s\nand inequalities
CLASS:PUBLIC
DESCRIPTION:As part of the Water Institute's WaterTalks lecture series\, Dr
 .\nGiuliano Di Baldassarre\, Professor\, Department of Earth Sciences &amp;\nP
 rincipal Investigator HydroSocialExtremes\, Uppsala University\, Sweden\nw
 ill present: Droughts in a human-dominated world: Feedbacks\, legacies\nan
 d inequalities.
DTSTAMP:20260419T193528Z
END:VEVENT
END:VCALENDAR