BEGIN:VCALENDAR
VERSION:2.0
PRODID:-//Drupal iCal API//EN
X-WR-CALNAME:Events items teaser
X-WR-TIMEZONE:America/Toronto
BEGIN:VTIMEZONE
TZID:America/Toronto
X-LIC-LOCATION:America/Toronto
BEGIN:DAYLIGHT
TZNAME:EDT
TZOFFSETFROM:-0500
TZOFFSETTO:-0400
DTSTART:20230312T070000
END:DAYLIGHT
BEGIN:STANDARD
TZNAME:EST
TZOFFSETFROM:-0400
TZOFFSETTO:-0500
DTSTART:20221106T060000
END:STANDARD
END:VTIMEZONE
BEGIN:VEVENT
UID:69e52ef52e3a0
DTSTART;TZID=America/Toronto:20230315T000000
SEQUENCE:0
TRANSP:TRANSPARENT
DTEND;TZID=America/Toronto:20230328T000000
URL:https://uwaterloo.ca/engineering/events/engineering-capstone-design-sym
 posia-0
LOCATION:PSE - Pearl Sullivan Engineering 200 University Ave West Waterloo 
 ON N2L 3G1 Canada
SUMMARY:Engineering Capstone Design Symposia
CLASS:PUBLIC
DESCRIPTION:Alumni\, students\, employers\, industry partners\, media\, and
  members of\nthe general public are invited to join us in Pearl Sullivan\n
 Engineering for the Capstone Design Symposium.
DTSTAMP:20260419T193725Z
END:VEVENT
END:VCALENDAR