BEGIN:VCALENDAR
VERSION:2.0
PRODID:-//Drupal iCal API//EN
X-WR-CALNAME:Events items teaser
X-WR-TIMEZONE:America/Toronto
BEGIN:VTIMEZONE
TZID:America/Toronto
X-LIC-LOCATION:America/Toronto
BEGIN:DAYLIGHT
TZNAME:EDT
TZOFFSETFROM:-0500
TZOFFSETTO:-0400
DTSTART:20230312T070000
END:DAYLIGHT
BEGIN:STANDARD
TZNAME:EST
TZOFFSETFROM:-0400
TZOFFSETTO:-0500
DTSTART:20221106T060000
END:STANDARD
END:VTIMEZONE
BEGIN:VEVENT
UID:69e52f9a8d451
DTSTART;TZID=America/Toronto:20230516T130000
SEQUENCE:0
TRANSP:TRANSPARENT
DTEND;TZID=America/Toronto:20230516T140000
URL:https://uwaterloo.ca/engineering/events/office-hour-stephen-semeniw-lon
 g-and-winding-road-adventure
LOCATION:Waterloo Engineering Hub Canada
SUMMARY:Office Hour with Stephen Semeniw (BASc '89) on “The Long and Wind
 ing\nRoad Adventure”
CLASS:PUBLIC
DESCRIPTION:Waterloo Engineering students and alumni are invited to partici
 pate in\nan exclusive virtual Office Hour with Waterloo Engineering alumnu
 s\nStephen Semeniw (BASc 1989\, electrical engineering)\, co-founder and\
 nvice-president of sales at Tego Cyber as well as management consultant\na
 t Quantus Capital Corporation\, who will talk about “The Long and\nWindi
 ng Road Adventure.”
DTSTAMP:20260419T194010Z
END:VEVENT
END:VCALENDAR