BEGIN:VCALENDAR
VERSION:2.0
PRODID:-//Drupal iCal API//EN
X-WR-CALNAME:Events items teaser
X-WR-TIMEZONE:America/Toronto
BEGIN:VTIMEZONE
TZID:America/Toronto
X-LIC-LOCATION:America/Toronto
BEGIN:DAYLIGHT
TZNAME:EDT
TZOFFSETFROM:-0500
TZOFFSETTO:-0400
DTSTART:20230312T070000
END:DAYLIGHT
BEGIN:STANDARD
TZNAME:EST
TZOFFSETFROM:-0400
TZOFFSETTO:-0500
DTSTART:20221106T060000
END:STANDARD
BEGIN:STANDARD
TZNAME:EST
TZOFFSETFROM:-0400
TZOFFSETTO:-0500
DTSTART:20231105T060000
END:STANDARD
END:VTIMEZONE
BEGIN:VEVENT
UID:69e5a0ab4bdcf
DTSTART;TZID=America/Toronto:20231002T163000
SEQUENCE:0
TRANSP:TRANSPARENT
DTEND;TZID=America/Toronto:20231002T170000
URL:https://uwaterloo.ca/engineering/events/meditation-mondays
LOCATION:E5 - Engineering 5 6002 200 University Avenue West Waterloo ON N2L
  3G1 Canada
SUMMARY:Meditation Mondays
CLASS:PUBLIC
DESCRIPTION:Meditation has been shown to reduce stress\, increase balance a
 nd\nstillness\, increase awareness\, and even expand acceptance and\ncompa
 ssion for yourself and others.  Each week will vary slightly.\n“Practic
 es” include breathing\, mindfulness\, body awareness\,\nearthly groundin
 g\, spacial awareness\, centring\, and more.\n\nSessions are facilitated f
 rom a well-being perspective. No religious\naffiliation is needed. Everyon
 e is welcome to participate. All\nexperience levels are welcome from advan
 ced practitioners to those who\nare trying meditation  for the first time
 .\n\nWhy not give it a try! Gift yourself with a few moments of stillness\
 nto reset and recharge. It’s as true for  people as it is with\ntechnol
 ogy as well as people...we can all benefit from shutting down\nfor a few m
 oments and recharging.\n\nThis session is open to all members of the FoE c
 ommunity. Please bring\nyour own meditation pillow or mat to sit on.
DTSTAMP:20260420T034235Z
END:VEVENT
BEGIN:VEVENT
UID:69e5a0ab4d488
DTSTART;TZID=America/Toronto:20231030T163000
SEQUENCE:0
TRANSP:TRANSPARENT
DTEND;TZID=America/Toronto:20231030T170000
URL:https://uwaterloo.ca/engineering/events/meditation-mondays
LOCATION:E5 - Engineering 5 6002 200 University Avenue West Waterloo ON N2L
  3G1 Canada
SUMMARY:Meditation Mondays
CLASS:PUBLIC
DESCRIPTION:Meditation has been shown to reduce stress\, increase balance a
 nd\nstillness\, increase awareness\, and even expand acceptance and\ncompa
 ssion for yourself and others.  Each week will vary slightly.\n“Practic
 es” include breathing\, mindfulness\, body awareness\,\nearthly groundin
 g\, spacial awareness\, centring\, and more.\n\nSessions are facilitated f
 rom a well-being perspective. No religious\naffiliation is needed. Everyon
 e is welcome to participate. All\nexperience levels are welcome from advan
 ced practitioners to those who\nare trying meditation  for the first time
 .\n\nWhy not give it a try! Gift yourself with a few moments of stillness\
 nto reset and recharge. It’s as true for  people as it is with\ntechnol
 ogy as well as people...we can all benefit from shutting down\nfor a few m
 oments and recharging.\n\nThis session is open to all members of the FoE c
 ommunity. Please bring\nyour own meditation pillow or mat to sit on.
DTSTAMP:20260420T034235Z
END:VEVENT
BEGIN:VEVENT
UID:69e5a0ab4e12c
DTSTART;TZID=America/Toronto:20231106T163000
SEQUENCE:0
TRANSP:TRANSPARENT
DTEND;TZID=America/Toronto:20231106T170000
URL:https://uwaterloo.ca/engineering/events/meditation-mondays
LOCATION:E5 - Engineering 5 6002 200 University Avenue West Waterloo ON N2L
  3G1 Canada
SUMMARY:Meditation Mondays
CLASS:PUBLIC
DESCRIPTION:Meditation has been shown to reduce stress\, increase balance a
 nd\nstillness\, increase awareness\, and even expand acceptance and\ncompa
 ssion for yourself and others.  Each week will vary slightly.\n“Practic
 es” include breathing\, mindfulness\, body awareness\,\nearthly groundin
 g\, spacial awareness\, centring\, and more.\n\nSessions are facilitated f
 rom a well-being perspective. No religious\naffiliation is needed. Everyon
 e is welcome to participate. All\nexperience levels are welcome from advan
 ced practitioners to those who\nare trying meditation  for the first time
 .\n\nWhy not give it a try! Gift yourself with a few moments of stillness\
 nto reset and recharge. It’s as true for  people as it is with\ntechnol
 ogy as well as people...we can all benefit from shutting down\nfor a few m
 oments and recharging.\n\nThis session is open to all members of the FoE c
 ommunity. Please bring\nyour own meditation pillow or mat to sit on.
DTSTAMP:20260420T034235Z
END:VEVENT
BEGIN:VEVENT
UID:69e5a0ab4eeac
DTSTART;TZID=America/Toronto:20231113T163000
SEQUENCE:0
TRANSP:TRANSPARENT
DTEND;TZID=America/Toronto:20231113T170000
URL:https://uwaterloo.ca/engineering/events/meditation-mondays
LOCATION:E5 - Engineering 5 6002 200 University Avenue West Waterloo ON N2L
  3G1 Canada
SUMMARY:Meditation Mondays
CLASS:PUBLIC
DESCRIPTION:Meditation has been shown to reduce stress\, increase balance a
 nd\nstillness\, increase awareness\, and even expand acceptance and\ncompa
 ssion for yourself and others.  Each week will vary slightly.\n“Practic
 es” include breathing\, mindfulness\, body awareness\,\nearthly groundin
 g\, spacial awareness\, centring\, and more.\n\nSessions are facilitated f
 rom a well-being perspective. No religious\naffiliation is needed. Everyon
 e is welcome to participate. All\nexperience levels are welcome from advan
 ced practitioners to those who\nare trying meditation  for the first time
 .\n\nWhy not give it a try! Gift yourself with a few moments of stillness\
 nto reset and recharge. It’s as true for  people as it is with\ntechnol
 ogy as well as people...we can all benefit from shutting down\nfor a few m
 oments and recharging.\n\nThis session is open to all members of the FoE c
 ommunity. Please bring\nyour own meditation pillow or mat to sit on.
DTSTAMP:20260420T034235Z
END:VEVENT
BEGIN:VEVENT
UID:69e5a0ab4faaf
DTSTART;TZID=America/Toronto:20231120T163000
SEQUENCE:0
TRANSP:TRANSPARENT
DTEND;TZID=America/Toronto:20231120T170000
URL:https://uwaterloo.ca/engineering/events/meditation-mondays
LOCATION:E5 - Engineering 5 6002 200 University Avenue West Waterloo ON N2L
  3G1 Canada
SUMMARY:Meditation Mondays
CLASS:PUBLIC
DESCRIPTION:Meditation has been shown to reduce stress\, increase balance a
 nd\nstillness\, increase awareness\, and even expand acceptance and\ncompa
 ssion for yourself and others.  Each week will vary slightly.\n“Practic
 es” include breathing\, mindfulness\, body awareness\,\nearthly groundin
 g\, spacial awareness\, centring\, and more.\n\nSessions are facilitated f
 rom a well-being perspective. No religious\naffiliation is needed. Everyon
 e is welcome to participate. All\nexperience levels are welcome from advan
 ced practitioners to those who\nare trying meditation  for the first time
 .\n\nWhy not give it a try! Gift yourself with a few moments of stillness\
 nto reset and recharge. It’s as true for  people as it is with\ntechnol
 ogy as well as people...we can all benefit from shutting down\nfor a few m
 oments and recharging.\n\nThis session is open to all members of the FoE c
 ommunity. Please bring\nyour own meditation pillow or mat to sit on.
DTSTAMP:20260420T034235Z
END:VEVENT
BEGIN:VEVENT
UID:69e5a0ab50650
DTSTART;TZID=America/Toronto:20231127T163000
SEQUENCE:0
TRANSP:TRANSPARENT
DTEND;TZID=America/Toronto:20231127T170000
URL:https://uwaterloo.ca/engineering/events/meditation-mondays
LOCATION:E5 - Engineering 5 6002 200 University Avenue West Waterloo ON N2L
  3G1 Canada
SUMMARY:Meditation Mondays
CLASS:PUBLIC
DESCRIPTION:Meditation has been shown to reduce stress\, increase balance a
 nd\nstillness\, increase awareness\, and even expand acceptance and\ncompa
 ssion for yourself and others.  Each week will vary slightly.\n“Practic
 es” include breathing\, mindfulness\, body awareness\,\nearthly groundin
 g\, spacial awareness\, centring\, and more.\n\nSessions are facilitated f
 rom a well-being perspective. No religious\naffiliation is needed. Everyon
 e is welcome to participate. All\nexperience levels are welcome from advan
 ced practitioners to those who\nare trying meditation  for the first time
 .\n\nWhy not give it a try! Gift yourself with a few moments of stillness\
 nto reset and recharge. It’s as true for  people as it is with\ntechnol
 ogy as well as people...we can all benefit from shutting down\nfor a few m
 oments and recharging.\n\nThis session is open to all members of the FoE c
 ommunity. Please bring\nyour own meditation pillow or mat to sit on.
DTSTAMP:20260420T034235Z
END:VEVENT
BEGIN:VEVENT
UID:69e5a0ab511ca
DTSTART;TZID=America/Toronto:20231204T163000
SEQUENCE:0
TRANSP:TRANSPARENT
DTEND;TZID=America/Toronto:20231204T170000
URL:https://uwaterloo.ca/engineering/events/meditation-mondays
LOCATION:E5 - Engineering 5 6002 200 University Avenue West Waterloo ON N2L
  3G1 Canada
SUMMARY:Meditation Mondays
CLASS:PUBLIC
DESCRIPTION:Meditation has been shown to reduce stress\, increase balance a
 nd\nstillness\, increase awareness\, and even expand acceptance and\ncompa
 ssion for yourself and others.  Each week will vary slightly.\n“Practic
 es” include breathing\, mindfulness\, body awareness\,\nearthly groundin
 g\, spacial awareness\, centring\, and more.\n\nSessions are facilitated f
 rom a well-being perspective. No religious\naffiliation is needed. Everyon
 e is welcome to participate. All\nexperience levels are welcome from advan
 ced practitioners to those who\nare trying meditation  for the first time
 .\n\nWhy not give it a try! Gift yourself with a few moments of stillness\
 nto reset and recharge. It’s as true for  people as it is with\ntechnol
 ogy as well as people...we can all benefit from shutting down\nfor a few m
 oments and recharging.\n\nThis session is open to all members of the FoE c
 ommunity. Please bring\nyour own meditation pillow or mat to sit on.
DTSTAMP:20260420T034235Z
END:VEVENT
BEGIN:VEVENT
UID:69e5a0ab51d43
DTSTART;TZID=America/Toronto:20231204T163000
SEQUENCE:0
TRANSP:TRANSPARENT
DTEND;TZID=America/Toronto:20231204T170000
URL:https://uwaterloo.ca/engineering/events/meditation-mondays
LOCATION:E5 - Engineering 5 6002 200 University Avenue West Waterloo ON N2L
  3G1 Canada
SUMMARY:Meditation Mondays
CLASS:PUBLIC
DESCRIPTION:Meditation has been shown to reduce stress\, increase balance a
 nd\nstillness\, increase awareness\, and even expand acceptance and\ncompa
 ssion for yourself and others.  Each week will vary slightly.\n“Practic
 es” include breathing\, mindfulness\, body awareness\,\nearthly groundin
 g\, spacial awareness\, centring\, and more.\n\nSessions are facilitated f
 rom a well-being perspective. No religious\naffiliation is needed. Everyon
 e is welcome to participate. All\nexperience levels are welcome from advan
 ced practitioners to those who\nare trying meditation  for the first time
 .\n\nWhy not give it a try! Gift yourself with a few moments of stillness\
 nto reset and recharge. It’s as true for  people as it is with\ntechnol
 ogy as well as people...we can all benefit from shutting down\nfor a few m
 oments and recharging.\n\nThis session is open to all members of the FoE c
 ommunity. Please bring\nyour own meditation pillow or mat to sit on.
DTSTAMP:20260420T034235Z
END:VEVENT
END:VCALENDAR