BEGIN:VCALENDAR
VERSION:2.0
PRODID:-//Drupal iCal API//EN
X-WR-CALNAME:Events items teaser
X-WR-TIMEZONE:America/Toronto
BEGIN:VTIMEZONE
TZID:America/Toronto
X-LIC-LOCATION:America/Toronto
BEGIN:DAYLIGHT
TZNAME:EDT
TZOFFSETFROM:-0500
TZOFFSETTO:-0400
DTSTART:20230312T070000
END:DAYLIGHT
BEGIN:STANDARD
TZNAME:EST
TZOFFSETFROM:-0400
TZOFFSETTO:-0500
DTSTART:20221106T060000
END:STANDARD
END:VTIMEZONE
BEGIN:VEVENT
UID:69e5309235913
DTSTART;TZID=America/Toronto:20231017T123000
SEQUENCE:0
TRANSP:TRANSPARENT
DTEND;TZID=America/Toronto:20231017T132000
URL:https://uwaterloo.ca/engineering/events/robotics-4d-printing-and-biomim
 etics-architectural-design
LOCATION:E5-6006 200 University Avenue West Waterloo ON N2L 3G1 Canada
SUMMARY:Robotics\, 4D printing\, and Biomimetics in Architectural Design
CLASS:PUBLIC
DESCRIPTION:Join David Correa\, Associate Professor in the School of Archit
 ecture\nfor a seminar on the implementation of state of the art digital\nf
 abrication tools (robotic manipulators\, 4D printers and CNC milling)\nto 
 develop innovative and high-performance design solutions for\nindustrial a
 nd architectural applications.
DTSTAMP:20260419T194418Z
END:VEVENT
END:VCALENDAR