BEGIN:VCALENDAR
VERSION:2.0
PRODID:-//Drupal iCal API//EN
X-WR-CALNAME:Events items teaser
X-WR-TIMEZONE:America/Toronto
BEGIN:VTIMEZONE
TZID:America/Toronto
X-LIC-LOCATION:America/Toronto
BEGIN:DAYLIGHT
TZNAME:EDT
TZOFFSETFROM:-0500
TZOFFSETTO:-0400
DTSTART:20230312T070000
END:DAYLIGHT
BEGIN:STANDARD
TZNAME:EST
TZOFFSETFROM:-0400
TZOFFSETTO:-0500
DTSTART:20221106T060000
END:STANDARD
END:VTIMEZONE
BEGIN:VEVENT
UID:69e5a0b06a270
DTSTART;TZID=America/Toronto:20231025T150000
SEQUENCE:0
TRANSP:TRANSPARENT
DTEND;TZID=America/Toronto:20231025T180000
URL:https://uwaterloo.ca/engineering/events/man-vs-world-workshop
LOCATION:PSE - Pearl Sullivan Engineering\, 7303 &amp; 7363 200 University Ave 
 West Waterloo ON N2L 3G1 Canada
SUMMARY:Man vs. World Workshop
CLASS:PUBLIC
DESCRIPTION:Explore the social location of men in society and how has that\
 nimpacted our society\, the way we grow and move within a community\, and\
 nthe way we show up (or don’t show up) for those who need us\, such as\n
 marginalized groups or those with less power.
DTSTAMP:20260420T034240Z
END:VEVENT
END:VCALENDAR