BEGIN:VCALENDAR
VERSION:2.0
PRODID:-//Drupal iCal API//EN
X-WR-CALNAME:Events items teaser
X-WR-TIMEZONE:America/Toronto
BEGIN:VTIMEZONE
TZID:America/Toronto
X-LIC-LOCATION:America/Toronto
BEGIN:DAYLIGHT
TZNAME:EDT
TZOFFSETFROM:-0500
TZOFFSETTO:-0400
DTSTART:20230312T070000
END:DAYLIGHT
BEGIN:STANDARD
TZNAME:EST
TZOFFSETFROM:-0400
TZOFFSETTO:-0500
DTSTART:20231105T060000
END:STANDARD
END:VTIMEZONE
BEGIN:VEVENT
UID:69e68889080dd
DTSTART;TZID=America/Toronto:20231206T100000
SEQUENCE:0
TRANSP:TRANSPARENT
DTEND;TZID=America/Toronto:20231206T110000
URL:https://uwaterloo.ca/engineering/events/masters-and-phd-programs-manage
 ment-science-and-engineering
LOCATION:Canada
SUMMARY:Master's and PhD programs - Management Science and Engineering
CLASS:PUBLIC
DESCRIPTION:Learn how to get Management engineering skills with the Master'
 s and\nPhD programs and the key steps to be accepted in the Department of\
 nManagement Science and Engineering at the University of Waterloo.\n\nMana
 gement science and engineering is a broad and interdisciplinary\nstudy of 
 problem-solving and decision-making in organizations. It uses\na combinati
 on of analytical models\, data science\, and behavioral\nsciences to addre
 ss society's most complex problems.
DTSTAMP:20260420T201153Z
END:VEVENT
END:VCALENDAR