BEGIN:VCALENDAR
VERSION:2.0
PRODID:-//Drupal iCal API//EN
X-WR-CALNAME:Events items teaser
X-WR-TIMEZONE:America/Toronto
BEGIN:VTIMEZONE
TZID:America/Toronto
X-LIC-LOCATION:America/Toronto
BEGIN:DAYLIGHT
TZNAME:EDT
TZOFFSETFROM:-0500
TZOFFSETTO:-0400
DTSTART:20230312T070000
END:DAYLIGHT
BEGIN:STANDARD
TZNAME:EST
TZOFFSETFROM:-0400
TZOFFSETTO:-0500
DTSTART:20231105T060000
END:STANDARD
END:VTIMEZONE
BEGIN:VEVENT
UID:69e88a2554d71
DTSTART;TZID=America/Toronto:20231213T100000
SEQUENCE:0
TRANSP:TRANSPARENT
DTEND;TZID=America/Toronto:20231213T110000
URL:https://uwaterloo.ca/engineering/events/pathways-permanent-residence-in
 ternational-student
LOCATION:Canada
SUMMARY:Pathways for Permanent Residence as International Student
CLASS:PUBLIC
DESCRIPTION:This session is designed for international students planning to
  take\ntheir Master's or PhD. in Canada. Did you know that there are sever
 al\nimmigration programs to become a permanent resident in Canada? In this
 \nsession\, an IRCC-certified consultant will explain the pathways to\nbec
 oming a permanent resident in Canada once you take a Master's or\nPhD. in 
 the Faculty of Engineering at the University of Waterloo in\nOntario\, Can
 ada.
DTSTAMP:20260422T084317Z
END:VEVENT
END:VCALENDAR