BEGIN:VCALENDAR
VERSION:2.0
PRODID:-//Drupal iCal API//EN
X-WR-CALNAME:Events items teaser
X-WR-TIMEZONE:America/Toronto
BEGIN:VTIMEZONE
TZID:America/Toronto
X-LIC-LOCATION:America/Toronto
BEGIN:DAYLIGHT
TZNAME:EDT
TZOFFSETFROM:-0500
TZOFFSETTO:-0400
DTSTART:20230312T070000
END:DAYLIGHT
BEGIN:STANDARD
TZNAME:EST
TZOFFSETFROM:-0400
TZOFFSETTO:-0500
DTSTART:20231105T060000
END:STANDARD
END:VTIMEZONE
BEGIN:VEVENT
UID:69ebf6055a0bc
DTSTART;TZID=America/Toronto:20231117T120000
SEQUENCE:0
TRANSP:TRANSPARENT
DTEND;TZID=America/Toronto:20231117T220000
URL:https://uwaterloo.ca/engineering/events/conference-diversity-engineerin
 g
SUMMARY:Conference on Diversity in Engineering
CLASS:PUBLIC
DESCRIPTION:The National Conference on Diversity in Engineering 2023 aims t
 o\ndevelop knowledge and have conversations surrounding the variety of\nin
 dividuals\, cultures and perspectives found within engineering\ncommunitie
 s. This conference is one of conversation\, reflection\, and\ninspiration\
 , aiming to instill a notion of positivity and togetherness\nin creating s
 paces that value the diversity within groups of\nengineering students and 
 professionals. This year's conference will be\nhosted by the University of
  Waterloo from November 17-20th\, 2023 with\nover 140 engineering students
  from 39 universities across Canada.
DTSTAMP:20260424T230021Z
END:VEVENT
BEGIN:VEVENT
UID:69ebf6055b0fc
DTSTART;TZID=America/Toronto:20231118T120000
SEQUENCE:0
TRANSP:TRANSPARENT
DTEND;TZID=America/Toronto:20231118T220000
URL:https://uwaterloo.ca/engineering/events/conference-diversity-engineerin
 g
SUMMARY:Conference on Diversity in Engineering
CLASS:PUBLIC
DESCRIPTION:The National Conference on Diversity in Engineering 2023 aims t
 o\ndevelop knowledge and have conversations surrounding the variety of\nin
 dividuals\, cultures and perspectives found within engineering\ncommunitie
 s. This conference is one of conversation\, reflection\, and\ninspiration\
 , aiming to instill a notion of positivity and togetherness\nin creating s
 paces that value the diversity within groups of\nengineering students and 
 professionals. This year's conference will be\nhosted by the University of
  Waterloo from November 17-20th\, 2023 with\nover 140 engineering students
  from 39 universities across Canada.
DTSTAMP:20260424T230021Z
END:VEVENT
BEGIN:VEVENT
UID:69ebf6055bb56
DTSTART;TZID=America/Toronto:20231119T120000
SEQUENCE:0
TRANSP:TRANSPARENT
DTEND;TZID=America/Toronto:20231119T220000
URL:https://uwaterloo.ca/engineering/events/conference-diversity-engineerin
 g
SUMMARY:Conference on Diversity in Engineering
CLASS:PUBLIC
DESCRIPTION:The National Conference on Diversity in Engineering 2023 aims t
 o\ndevelop knowledge and have conversations surrounding the variety of\nin
 dividuals\, cultures and perspectives found within engineering\ncommunitie
 s. This conference is one of conversation\, reflection\, and\ninspiration\
 , aiming to instill a notion of positivity and togetherness\nin creating s
 paces that value the diversity within groups of\nengineering students and 
 professionals. This year's conference will be\nhosted by the University of
  Waterloo from November 17-20th\, 2023 with\nover 140 engineering students
  from 39 universities across Canada.
DTSTAMP:20260424T230021Z
END:VEVENT
END:VCALENDAR