BEGIN:VCALENDAR
VERSION:2.0
PRODID:-//Drupal iCal API//EN
X-WR-CALNAME:Events items teaser
X-WR-TIMEZONE:America/Toronto
BEGIN:VTIMEZONE
TZID:America/Toronto
X-LIC-LOCATION:America/Toronto
BEGIN:DAYLIGHT
TZNAME:EDT
TZOFFSETFROM:-0500
TZOFFSETTO:-0400
DTSTART:20240310T070000
END:DAYLIGHT
BEGIN:STANDARD
TZNAME:EST
TZOFFSETFROM:-0400
TZOFFSETTO:-0500
DTSTART:20231105T060000
END:STANDARD
END:VTIMEZONE
BEGIN:VEVENT
UID:69e4c4e94ac15
DTSTART;TZID=America/Toronto:20240605T140000
SEQUENCE:0
TRANSP:TRANSPARENT
DTEND;TZID=America/Toronto:20240605T170000
URL:https://uwaterloo.ca/engineering/events/engineering-graduate-studies-fa
 ir-2024
LOCATION:Engineering Event Space (PSE second floor) Canada
SUMMARY:Engineering Graduate Studies Fair 2024
CLASS:PUBLIC
DESCRIPTION:Are you interested in pursuing a Master’s or PhD and want to 
 learn\nmore about the Engineering Graduate programs offered at\nWaterloo?
  Register to join us on Wednesday\, June 5 from 2:00-5:00\np.m. for our i
 n-person Graduate Studies Fair to have all of your\nquestions answered by
  faculty members\, current grad students and\nadmission experts from each 
 department! 
DTSTAMP:20260419T120457Z
END:VEVENT
END:VCALENDAR