BEGIN:VCALENDAR
VERSION:2.0
PRODID:-//Drupal iCal API//EN
X-WR-CALNAME:Events items teaser
X-WR-TIMEZONE:America/Toronto
BEGIN:VTIMEZONE
TZID:America/Toronto
X-LIC-LOCATION:America/Toronto
BEGIN:DAYLIGHT
TZNAME:EDT
TZOFFSETFROM:-0500
TZOFFSETTO:-0400
DTSTART:20240310T070000
END:DAYLIGHT
BEGIN:STANDARD
TZNAME:EST
TZOFFSETFROM:-0400
TZOFFSETTO:-0500
DTSTART:20241103T060000
END:STANDARD
END:VTIMEZONE
BEGIN:VEVENT
UID:69e963a86d727
DTSTART;TZID=America/Toronto:20241127T200000
SEQUENCE:0
TRANSP:TRANSPARENT
DTEND;TZID=America/Toronto:20241127T210000
URL:https://uwaterloo.ca/engineering/events/undergraduate-admissions-webina
 r-series-environmental
SUMMARY:Undergraduate Admissions Webinar Series: Environmental &amp; Geological
 \nEngineering Ask-Me-Anything
CLASS:PUBLIC
DESCRIPTION:Explore our Environmental and Geological Engineering programs a
 nd see\nhow these fields address critical issues like climate change\, res
 ource\ndepletion and environmental degradation. As an environmental or\ng
 eological engineer\, you’ll work on projects that protect the\nenvironme
 nt\, manage resources sustainably and design\ndisaster-resilient infrastr
 ucture. Hear from our professors\, current\nstudents and alumni\, and get 
 your questions answered at this\ninteractive AMA webinar. 
DTSTAMP:20260423T001120Z
END:VEVENT
END:VCALENDAR