BEGIN:VCALENDAR
VERSION:2.0
PRODID:-//Drupal iCal API//EN
X-WR-CALNAME:Events items teaser
X-WR-TIMEZONE:America/Toronto
BEGIN:VTIMEZONE
TZID:America/Toronto
X-LIC-LOCATION:America/Toronto
BEGIN:DAYLIGHT
TZNAME:EDT
TZOFFSETFROM:-0500
TZOFFSETTO:-0400
DTSTART:20240310T070000
END:DAYLIGHT
BEGIN:STANDARD
TZNAME:EST
TZOFFSETFROM:-0400
TZOFFSETTO:-0500
DTSTART:20241103T060000
END:STANDARD
END:VTIMEZONE
BEGIN:VEVENT
UID:69ebf49ac0db4
DTSTART;TZID=America/Toronto:20241206T103000
SEQUENCE:0
TRANSP:TRANSPARENT
DTEND;TZID=America/Toronto:20241206T110000
URL:https://uwaterloo.ca/engineering/events/national-day-remembrance
LOCATION:PSE 2nd Floor Event Space - Pearl Sullivan Engineering 200 Univers
 ity Ave West Waterloo ON N2L 3G1 Canada
SUMMARY:National Day of Remembrance
CLASS:PUBLIC
DESCRIPTION:Canada changed forever on December 6\, 1989 when 14 women were 
 murdered\nin a gender-based act of violence at l'École Polytechnique de\n
 Montréal.\n\nThe Faculty of Engineering invites you to join us\, on Dece
 mber 6\,\n2024\, for a ceremony and moment of silence observing Canada’
 s\nNational Day of Remembrance and Action on Violence Against Women.\n\nPl
 ease join us as we come together to honour and reflect on the lives\nof th
 ese 14 women and everyone else whose lives were forever changed.\n\nWhen: 
 Friday\, December 6 | 10:30–11:00am\n\nWhere: Pearl Sullivan Engineering
 \, 2nd Floor Event Space
DTSTAMP:20260424T225418Z
END:VEVENT
END:VCALENDAR