BEGIN:VCALENDAR
VERSION:2.0
PRODID:-//Drupal iCal API//EN
X-WR-CALNAME:Events items teaser
X-WR-TIMEZONE:America/Toronto
BEGIN:VTIMEZONE
TZID:America/Toronto
X-LIC-LOCATION:America/Toronto
BEGIN:DAYLIGHT
TZNAME:EDT
TZOFFSETFROM:-0500
TZOFFSETTO:-0400
DTSTART:20250309T070000
END:DAYLIGHT
BEGIN:STANDARD
TZNAME:EST
TZOFFSETFROM:-0400
TZOFFSETTO:-0500
DTSTART:20241103T060000
END:STANDARD
END:VTIMEZONE
BEGIN:VEVENT
UID:69ebf5a146478
DTSTART;TZID=America/Toronto:20250321T130000
SEQUENCE:0
TRANSP:TRANSPARENT
DTEND;TZID=America/Toronto:20250321T210000
URL:https://uwaterloo.ca/engineering/events/troncon-2025
LOCATION:University of Waterloo 200 University Avenue West Waterloo ON N2L 
 3G1 Canada
SUMMARY:TronCon 2025
CLASS:PUBLIC
DESCRIPTION:IT'S A FULL DAY OF DISCOVERY AT TRONCON 2025! TRONCON WILL\nCOI
 NCIDE WITH THE MECHATRONICS CAPSTONE DESIGN SYMPOSIUM TO GIVE\nALUMNI A
 N OPPORTUNITY TO VIEW THE NEWEST BATCH OF CAPSTONE DESIGN\nPROJECTS (FYDP
 S) BY FOURTH YEAR MECHATRONICS STUDENTS\, GET INVOLVED\nIN JUDGING THE CA
 PSTONE DESIGN PROJECTS\, AND RECONNECT WITH THE TRON\nCOMMUNITY AT THE EVE
 NT AND AT THE DINNER THAT FOLLOWS. 
DTSTAMP:20260424T225841Z
END:VEVENT
END:VCALENDAR